BEGIN:VCALENDAR
VERSION:2.0
PRODID:-//Sportcentrum Omnia - ECPv6.15.18//NONSGML v1.0//EN
CALSCALE:GREGORIAN
METHOD:PUBLISH
X-ORIGINAL-URL:https://sportcentrumomnia.nl
X-WR-CALDESC:Evenementen voor Sportcentrum Omnia
REFRESH-INTERVAL;VALUE=DURATION:PT1H
X-Robots-Tag:noindex
X-PUBLISHED-TTL:PT1H
BEGIN:VTIMEZONE
TZID:Europe/Amsterdam
BEGIN:DAYLIGHT
TZOFFSETFROM:+0100
TZOFFSETTO:+0200
TZNAME:CEST
DTSTART:20250330T010000
END:DAYLIGHT
BEGIN:STANDARD
TZOFFSETFROM:+0200
TZOFFSETTO:+0100
TZNAME:CET
DTSTART:20251026T010000
END:STANDARD
BEGIN:DAYLIGHT
TZOFFSETFROM:+0100
TZOFFSETTO:+0200
TZNAME:CEST
DTSTART:20260329T010000
END:DAYLIGHT
BEGIN:STANDARD
TZOFFSETFROM:+0200
TZOFFSETTO:+0100
TZNAME:CET
DTSTART:20261025T010000
END:STANDARD
BEGIN:DAYLIGHT
TZOFFSETFROM:+0100
TZOFFSETTO:+0200
TZNAME:CEST
DTSTART:20270328T010000
END:DAYLIGHT
BEGIN:STANDARD
TZOFFSETFROM:+0200
TZOFFSETTO:+0100
TZNAME:CET
DTSTART:20271031T010000
END:STANDARD
END:VTIMEZONE
BEGIN:VEVENT
DTSTART;TZID=Europe/Amsterdam:20260421T093000
DTEND;TZID=Europe/Amsterdam:20260421T103000
DTSTAMP:20260423T180423
CREATED:20220302T064653Z
LAST-MODIFIED:20220302T064653Z
UID:23755-1776763800-1776767400@sportcentrumomnia.nl
SUMMARY:Zumba/Pound
DESCRIPTION:
URL:https://sportcentrumomnia.nl/lessen/zumba-pound/2026-04-21/
END:VEVENT
BEGIN:VEVENT
DTSTART;TZID=Europe/Amsterdam:20260422T203000
DTEND;TZID=Europe/Amsterdam:20260422T213000
DTSTAMP:20260423T180423
CREATED:20200509T085002Z
LAST-MODIFIED:20200509T085002Z
UID:23761-1776889800-1776893400@sportcentrumomnia.nl
SUMMARY:Zumba
DESCRIPTION:
URL:https://sportcentrumomnia.nl/lessen/zumba-buiten/2026-04-22/
END:VEVENT
BEGIN:VEVENT
DTSTART;TZID=Europe/Amsterdam:20260424T193000
DTEND;TZID=Europe/Amsterdam:20260424T203000
DTSTAMP:20260423T180423
CREATED:20200509T085002Z
LAST-MODIFIED:20200509T085002Z
UID:23791-1777059000-1777062600@sportcentrumomnia.nl
SUMMARY:Zumba
DESCRIPTION:
URL:https://sportcentrumomnia.nl/lessen/zumba-buiten/2026-04-24/
END:VEVENT
END:VCALENDAR