BEGIN:VCALENDAR
VERSION:2.0
PRODID:-//Sportcentrum Omnia - ECPv6.15.18//NONSGML v1.0//EN
CALSCALE:GREGORIAN
METHOD:PUBLISH
X-WR-CALNAME:Sportcentrum Omnia
X-ORIGINAL-URL:https://sportcentrumomnia.nl
X-WR-CALDESC:Evenementen voor Sportcentrum Omnia
REFRESH-INTERVAL;VALUE=DURATION:PT1H
X-Robots-Tag:noindex
X-PUBLISHED-TTL:PT1H
BEGIN:VTIMEZONE
TZID:Europe/Amsterdam
BEGIN:DAYLIGHT
TZOFFSETFROM:+0100
TZOFFSETTO:+0200
TZNAME:CEST
DTSTART:20250330T010000
END:DAYLIGHT
BEGIN:STANDARD
TZOFFSETFROM:+0200
TZOFFSETTO:+0100
TZNAME:CET
DTSTART:20251026T010000
END:STANDARD
BEGIN:DAYLIGHT
TZOFFSETFROM:+0100
TZOFFSETTO:+0200
TZNAME:CEST
DTSTART:20260329T010000
END:DAYLIGHT
BEGIN:STANDARD
TZOFFSETFROM:+0200
TZOFFSETTO:+0100
TZNAME:CET
DTSTART:20261025T010000
END:STANDARD
BEGIN:DAYLIGHT
TZOFFSETFROM:+0100
TZOFFSETTO:+0200
TZNAME:CEST
DTSTART:20270328T010000
END:DAYLIGHT
BEGIN:STANDARD
TZOFFSETFROM:+0200
TZOFFSETTO:+0100
TZNAME:CET
DTSTART:20271031T010000
END:STANDARD
END:VTIMEZONE
BEGIN:VEVENT
DTSTART;TZID=Europe/Amsterdam:20260701T203000
DTEND;TZID=Europe/Amsterdam:20260701T213000
DTSTAMP:20260425T002535
CREATED:20200509T085002Z
LAST-MODIFIED:20200509T085002Z
UID:24065-1782937800-1782941400@sportcentrumomnia.nl
SUMMARY:Zumba
DESCRIPTION:
URL:https://sportcentrumomnia.nl/lessen/zumba-buiten/2026-07-01/
END:VEVENT
BEGIN:VEVENT
DTSTART;TZID=Europe/Amsterdam:20260703T193000
DTEND;TZID=Europe/Amsterdam:20260703T203000
DTSTAMP:20260425T002535
CREATED:20200509T085002Z
LAST-MODIFIED:20200509T085002Z
UID:24092-1783107000-1783110600@sportcentrumomnia.nl
SUMMARY:Zumba
DESCRIPTION:
URL:https://sportcentrumomnia.nl/lessen/zumba-buiten/2026-07-03/
END:VEVENT
BEGIN:VEVENT
DTSTART;TZID=Europe/Amsterdam:20260707T093000
DTEND;TZID=Europe/Amsterdam:20260707T103000
DTSTAMP:20260425T002535
CREATED:20220302T064653Z
LAST-MODIFIED:20220302T064653Z
UID:24087-1783416600-1783420200@sportcentrumomnia.nl
SUMMARY:Zumba/Pound
DESCRIPTION:
URL:https://sportcentrumomnia.nl/lessen/zumba-pound/2026-07-07/
END:VEVENT
BEGIN:VEVENT
DTSTART;TZID=Europe/Amsterdam:20260708T203000
DTEND;TZID=Europe/Amsterdam:20260708T213000
DTSTAMP:20260425T002535
CREATED:20200509T085002Z
LAST-MODIFIED:20200509T085002Z
UID:24091-1783542600-1783546200@sportcentrumomnia.nl
SUMMARY:Zumba
DESCRIPTION:
URL:https://sportcentrumomnia.nl/lessen/zumba-buiten/2026-07-08/
END:VEVENT
BEGIN:VEVENT
DTSTART;TZID=Europe/Amsterdam:20260710T193000
DTEND;TZID=Europe/Amsterdam:20260710T203000
DTSTAMP:20260425T002535
CREATED:20200509T085002Z
LAST-MODIFIED:20200509T085002Z
UID:24119-1783711800-1783715400@sportcentrumomnia.nl
SUMMARY:Zumba
DESCRIPTION:
URL:https://sportcentrumomnia.nl/lessen/zumba-buiten/2026-07-10/
END:VEVENT
BEGIN:VEVENT
DTSTART;TZID=Europe/Amsterdam:20260714T093000
DTEND;TZID=Europe/Amsterdam:20260714T103000
DTSTAMP:20260425T002535
CREATED:20220302T064653Z
LAST-MODIFIED:20220302T064653Z
UID:24114-1784021400-1784025000@sportcentrumomnia.nl
SUMMARY:Zumba/Pound
DESCRIPTION:
URL:https://sportcentrumomnia.nl/lessen/zumba-pound/2026-07-14/
END:VEVENT
BEGIN:VEVENT
DTSTART;TZID=Europe/Amsterdam:20260715T203000
DTEND;TZID=Europe/Amsterdam:20260715T213000
DTSTAMP:20260425T002535
CREATED:20200509T085002Z
LAST-MODIFIED:20200509T085002Z
UID:24118-1784147400-1784151000@sportcentrumomnia.nl
SUMMARY:Zumba
DESCRIPTION:
URL:https://sportcentrumomnia.nl/lessen/zumba-buiten/2026-07-15/
END:VEVENT
BEGIN:VEVENT
DTSTART;TZID=Europe/Amsterdam:20260717T193000
DTEND;TZID=Europe/Amsterdam:20260717T203000
DTSTAMP:20260425T002535
CREATED:20200509T085002Z
LAST-MODIFIED:20200509T085002Z
UID:24145-1784316600-1784320200@sportcentrumomnia.nl
SUMMARY:Zumba
DESCRIPTION:
URL:https://sportcentrumomnia.nl/lessen/zumba-buiten/2026-07-17/
END:VEVENT
BEGIN:VEVENT
DTSTART;TZID=Europe/Amsterdam:20260721T093000
DTEND;TZID=Europe/Amsterdam:20260721T103000
DTSTAMP:20260425T002535
CREATED:20220302T064653Z
LAST-MODIFIED:20220302T064653Z
UID:24140-1784626200-1784629800@sportcentrumomnia.nl
SUMMARY:Zumba/Pound
DESCRIPTION:
URL:https://sportcentrumomnia.nl/lessen/zumba-pound/2026-07-21/
END:VEVENT
BEGIN:VEVENT
DTSTART;TZID=Europe/Amsterdam:20260722T203000
DTEND;TZID=Europe/Amsterdam:20260722T213000
DTSTAMP:20260425T002535
CREATED:20200509T085002Z
LAST-MODIFIED:20200509T085002Z
UID:24144-1784752200-1784755800@sportcentrumomnia.nl
SUMMARY:Zumba
DESCRIPTION:
URL:https://sportcentrumomnia.nl/lessen/zumba-buiten/2026-07-22/
END:VEVENT
END:VCALENDAR