BEGIN:VCALENDAR
VERSION:2.0
PRODID:-//Sportcentrum Omnia - ECPv6.15.18//NONSGML v1.0//EN
CALSCALE:GREGORIAN
METHOD:PUBLISH
X-WR-CALNAME:Sportcentrum Omnia
X-ORIGINAL-URL:https://sportcentrumomnia.nl
X-WR-CALDESC:Evenementen voor Sportcentrum Omnia
REFRESH-INTERVAL;VALUE=DURATION:PT1H
X-Robots-Tag:noindex
X-PUBLISHED-TTL:PT1H
BEGIN:VTIMEZONE
TZID:Europe/Amsterdam
BEGIN:DAYLIGHT
TZOFFSETFROM:+0100
TZOFFSETTO:+0200
TZNAME:CEST
DTSTART:20250330T010000
END:DAYLIGHT
BEGIN:STANDARD
TZOFFSETFROM:+0200
TZOFFSETTO:+0100
TZNAME:CET
DTSTART:20251026T010000
END:STANDARD
BEGIN:DAYLIGHT
TZOFFSETFROM:+0100
TZOFFSETTO:+0200
TZNAME:CEST
DTSTART:20260329T010000
END:DAYLIGHT
BEGIN:STANDARD
TZOFFSETFROM:+0200
TZOFFSETTO:+0100
TZNAME:CET
DTSTART:20261025T010000
END:STANDARD
BEGIN:DAYLIGHT
TZOFFSETFROM:+0100
TZOFFSETTO:+0200
TZNAME:CEST
DTSTART:20270328T010000
END:DAYLIGHT
BEGIN:STANDARD
TZOFFSETFROM:+0200
TZOFFSETTO:+0100
TZNAME:CET
DTSTART:20271031T010000
END:STANDARD
END:VTIMEZONE
BEGIN:VEVENT
DTSTART;TZID=Europe/Amsterdam:20260501T103000
DTEND;TZID=Europe/Amsterdam:20260501T113000
DTSTAMP:20260424T232537
CREATED:20220302T064817Z
LAST-MODIFIED:20220302T064817Z
UID:23801-1777631400-1777635000@sportcentrumomnia.nl
SUMMARY:Pilates
DESCRIPTION:i
URL:https://sportcentrumomnia.nl/lessen/pilates/2026-05-01/
END:VEVENT
BEGIN:VEVENT
DTSTART;TZID=Europe/Amsterdam:20260508T103000
DTEND;TZID=Europe/Amsterdam:20260508T113000
DTSTAMP:20260424T232537
CREATED:20220302T064817Z
LAST-MODIFIED:20220302T064817Z
UID:23838-1778236200-1778239800@sportcentrumomnia.nl
SUMMARY:Pilates
DESCRIPTION:i
URL:https://sportcentrumomnia.nl/lessen/pilates/2026-05-08/
END:VEVENT
BEGIN:VEVENT
DTSTART;TZID=Europe/Amsterdam:20260515T103000
DTEND;TZID=Europe/Amsterdam:20260515T113000
DTSTAMP:20260424T232537
CREATED:20220302T064817Z
LAST-MODIFIED:20220302T064817Z
UID:23866-1778841000-1778844600@sportcentrumomnia.nl
SUMMARY:Pilates
DESCRIPTION:i
URL:https://sportcentrumomnia.nl/lessen/pilates/2026-05-15/
END:VEVENT
BEGIN:VEVENT
DTSTART;TZID=Europe/Amsterdam:20260522T103000
DTEND;TZID=Europe/Amsterdam:20260522T113000
DTSTAMP:20260424T232537
CREATED:20220302T064817Z
LAST-MODIFIED:20220302T064817Z
UID:23894-1779445800-1779449400@sportcentrumomnia.nl
SUMMARY:Pilates
DESCRIPTION:i
URL:https://sportcentrumomnia.nl/lessen/pilates/2026-05-22/
END:VEVENT
BEGIN:VEVENT
DTSTART;TZID=Europe/Amsterdam:20260529T103000
DTEND;TZID=Europe/Amsterdam:20260529T113000
DTSTAMP:20260424T232537
CREATED:20220302T064817Z
LAST-MODIFIED:20220302T064817Z
UID:23925-1780050600-1780054200@sportcentrumomnia.nl
SUMMARY:Pilates
DESCRIPTION:i
URL:https://sportcentrumomnia.nl/lessen/pilates/2026-05-29/
END:VEVENT
END:VCALENDAR